BEGIN:VCALENDAR
VERSION:2.0
PRODID:-//Jamaica Fire Brigade - ECPv6.15.17.1//NONSGML v1.0//EN
CALSCALE:GREGORIAN
METHOD:PUBLISH
X-WR-CALNAME:Jamaica Fire Brigade
X-ORIGINAL-URL:https://jfb.gov.jm
X-WR-CALDESC:Events for Jamaica Fire Brigade
REFRESH-INTERVAL;VALUE=DURATION:PT1H
X-Robots-Tag:noindex
X-PUBLISHED-TTL:PT1H
BEGIN:VTIMEZONE
TZID:UTC
BEGIN:STANDARD
TZOFFSETFROM:+0000
TZOFFSETTO:+0000
TZNAME:UTC
DTSTART:20190101T000000
END:STANDARD
END:VTIMEZONE
BEGIN:VEVENT
DTSTART;VALUE=DATE:20201025
DTEND;VALUE=DATE:20201101
DTSTAMP:20260423T164717
CREATED:20190926T182141Z
LAST-MODIFIED:20201027T151608Z
UID:2650-1603584000-1604188799@jfb.gov.jm
SUMMARY:FIRE AND LIFE SAFETY AWARENESS WEEK(FLSAW) 2020
DESCRIPTION:Fire and Life Safety Awareness Week is annually observed by the Jamaica Fire Brigade. \nThe Jamaica Fire Brigade (JFB) will be using a virtual format to get the message of fire safety and prevention across to Jamaicans during Fire and Life Safety Awareness Week 2020. \nThe week will be observed from October 25 to 31 under the theme ‘Being Fire Safe while Socially Distant’. \nUsually\, at this time of the year\, firefighters from across the island would stage face-to-face sensitisation sessions with community groups\, schools\, churches and businesses\, but with the coronavirus (COVID-19) pandemic restricting such contact\, the JFB will be engaging the public through a slew of activities\, utilising traditional and social media. \n 
URL:https://jfb.gov.jm/event/website-launch/
ATTACH;FMTTYPE=image/jpeg:https://jfb.gov.jm/wp-content/uploads/2019/09/RAF-3-22-1536x932-2.jpg
END:VEVENT
END:VCALENDAR